BEGIN:VCALENDAR
VERSION:2.0
PRODID:-//Centro per la Cooperazione Internazionale - ECPv6.15.12.2//NONSGML v1.0//EN
CALSCALE:GREGORIAN
METHOD:PUBLISH
X-ORIGINAL-URL:https://www.cci.tn.it
X-WR-CALDESC:Eventi per Centro per la Cooperazione Internazionale
REFRESH-INTERVAL;VALUE=DURATION:PT1H
X-Robots-Tag:noindex
X-PUBLISHED-TTL:PT1H
BEGIN:VTIMEZONE
TZID:Europe/Rome
BEGIN:DAYLIGHT
TZOFFSETFROM:+0100
TZOFFSETTO:+0200
TZNAME:CEST
DTSTART:20240331T010000
END:DAYLIGHT
BEGIN:STANDARD
TZOFFSETFROM:+0200
TZOFFSETTO:+0100
TZNAME:CET
DTSTART:20241027T010000
END:STANDARD
BEGIN:DAYLIGHT
TZOFFSETFROM:+0100
TZOFFSETTO:+0200
TZNAME:CEST
DTSTART:20250330T010000
END:DAYLIGHT
BEGIN:STANDARD
TZOFFSETFROM:+0200
TZOFFSETTO:+0100
TZNAME:CET
DTSTART:20251026T010000
END:STANDARD
BEGIN:DAYLIGHT
TZOFFSETFROM:+0100
TZOFFSETTO:+0200
TZNAME:CEST
DTSTART:20260329T010000
END:DAYLIGHT
BEGIN:STANDARD
TZOFFSETFROM:+0200
TZOFFSETTO:+0100
TZNAME:CET
DTSTART:20261025T010000
END:STANDARD
END:VTIMEZONE
BEGIN:VEVENT
DTSTART;TZID=Europe/Rome:20250214T190000
DTEND;TZID=Europe/Rome:20250214T220000
DTSTAMP:20260423T023525
CREATED:20250212T090140Z
LAST-MODIFIED:20250212T090140Z
UID:17723-1739559600-1739570400@www.cci.tn.it
SUMMARY:Presentazione della collezione “Giù al Mincio” di Adele Rasini
DESCRIPTION:Adele Rasini\, giovane designer di 21 anni originaria di Rivalta sul Mincio (MN)\, è una delle promesse emergenti nel mondo della moda italiana. Dopo aver frequentato il corso di Fashion Design presso l’Istituto Modartech di Pontedera\, ha dato vita alla sua collezione “Giù al Mincio”\, un progetto che fonde artigianalità\, tradizione e sostenibilità presentato ad un evento della Camera nazionale della moda italiana durante la settimana della moda di Milano di quest’anno. La collezione rende omaggio agli antichi mestieri praticati nel suo paese d’origine all’inizio del Novecento\, come il lavoro del cannarolo e dell’arellaia\, che intrecciavano canne e erbe palustri per creare manufatti utili alla vita quotidiana.\n\nQuesta ricerca delle radici culturali si estende anche alla scelta di materiali naturali e alla valorizzazione di tecniche artigianali come l’agugliatura e la tessitura\, per realizzare capi che raccontano la storia della sua terra\, ma con un occhio attento al futuro. La sostenibilità è un pilastro fondamentale del suo lavoro\, che si inserisce nel contrasto alla logica del fast fashion\, un settore che\, secondo Adele\, ha svuotato la moda della sua essenza creativa e culturale\n\nL’esposizione di questa sera apre alle 19 ed è organizzata nell’ultima giornata del progetto “Lungo le vie dell’ACQUA: Ambiente\, Cultura\, Qualità di vita per Educare alla Cittadinanza Globale” finanziato da Agenzia italiana per la cooperazione e lo sviluppo (Aics) e partecipato da tre città Rovereto\, Cuneo e Mantova di cui Arci Mantova aps è partner.\n\nIl progetto è dedicato all’educazione alla cittadinanza globale (ECG) con particolare riguardo alla risorsa acqua\, sempre più rara e sempre più preziosa. Un bene da tutelare e rispettare\, ma anche da rendere inclusiva e accessibile a tutt*.
URL:https://www.cci.tn.it/event/presentazione-della-collezione-giu-al-mincio-di-adele-rasini/
CATEGORIES:Vie acqua
ATTACH;FMTTYPE=image/webp:https://www.cci.tn.it/wp-content/uploads/sites/2/2025/02/WhatsApp-Image-2025-02-11-at-10.27.29-2.webp
END:VEVENT
END:VCALENDAR