BEGIN:VCALENDAR
VERSION:2.0
PRODID:-//Centro per la Cooperazione Internazionale - ECPv6.15.12.2//NONSGML v1.0//EN
CALSCALE:GREGORIAN
METHOD:PUBLISH
X-WR-CALNAME:Centro per la Cooperazione Internazionale
X-ORIGINAL-URL:https://www.cci.tn.it
X-WR-CALDESC:Eventi per Centro per la Cooperazione Internazionale
REFRESH-INTERVAL;VALUE=DURATION:PT1H
X-Robots-Tag:noindex
X-PUBLISHED-TTL:PT1H
BEGIN:VTIMEZONE
TZID:Europe/Rome
BEGIN:DAYLIGHT
TZOFFSETFROM:+0100
TZOFFSETTO:+0200
TZNAME:CEST
DTSTART:20250330T010000
END:DAYLIGHT
BEGIN:STANDARD
TZOFFSETFROM:+0200
TZOFFSETTO:+0100
TZNAME:CET
DTSTART:20251026T010000
END:STANDARD
BEGIN:DAYLIGHT
TZOFFSETFROM:+0100
TZOFFSETTO:+0200
TZNAME:CEST
DTSTART:20260329T010000
END:DAYLIGHT
BEGIN:STANDARD
TZOFFSETFROM:+0200
TZOFFSETTO:+0100
TZNAME:CET
DTSTART:20261025T010000
END:STANDARD
BEGIN:DAYLIGHT
TZOFFSETFROM:+0100
TZOFFSETTO:+0200
TZNAME:CEST
DTSTART:20270328T010000
END:DAYLIGHT
BEGIN:STANDARD
TZOFFSETFROM:+0200
TZOFFSETTO:+0100
TZNAME:CET
DTSTART:20271031T010000
END:STANDARD
END:VTIMEZONE
BEGIN:VEVENT
DTSTART;TZID=Europe/Rome:20260317T180000
DTEND;TZID=Europe/Rome:20260317T193000
DTSTAMP:20260424T011527
CREATED:20260312T113244Z
LAST-MODIFIED:20260312T113421Z
UID:18999-1773770400-1773775800@www.cci.tn.it
SUMMARY:I buchi neri di Sarajevo
DESCRIPTION:Nel 30° anniversario della fine dell’assedio di Sarajevo\, viene presentata la nuova edizione del libro di Božidar Stanišić edito da Bottega Errante. L’autore dialogherà con Nicole Corritore\, giornalista di OBC Transeuropa \nNel 30° anniversario della fine dell’assedio di Sarajevo\, un incontro sulla Bosnia degli anni Novanta tra letteratura\, memoria e guerra\, in cui viene presentata la nuova edizione di “I buchi di Sarajevo” di Božidar Stanišić\, edito da Bottega Errante. \nA dialogare con l’autore sarà Nicole Corritore\, giornalista di Osservatorio Balcani Caucaso Transeuropa. \nC’è una Bosnia che non si racconta attraverso i numeri dei morti o le cronache dei negoziati di pace\, ma attraverso i silenzi\, i pensieri\, i movimenti di chi è sopravvissuto. È quella di Božidar Stanišić\, scrittore e poeta bosniaco che nel 1992 ha lasciato la sua terra rifiutandosi di indossare qualunque tipo di divisa. Il libro accompagna il lettore nella Bosnia degli anni Novanta\, prima e dopo lo scoppio del conflitto armato\, dentro una Sarajevo meravigliosa\, poi tragicamente devastata dall’assedio. Le storie di uomini e donne che vedono cambiare all’improvviso il corso della loro vita si muovono in un equilibrio sottilissimo tra follia\, ricordi e fantasmi del passato. I buchi neri del titolo non sono solo quelli della città martoriata\, ma gli abissi e le solitudini di ognuno di fronte alla pazzia di tutte le guerre. \nBožidar Stanišić (Visoko\, 1956) – Stanišić\, nato a Visoko nel 1956\, vive a Zugliano\, in provincia di Udine\, dal momento in cui ha trovato rifugio in Italia. È considerato uno dei massimi conoscitori della letteratura balcanica\, in particolare dell’opera del premio Nobel Ivo Andrić\, di cui ha curato diverse opere per Bottega Errante Edizioni. I suoi testi sono tradotti in francese\, inglese\, sloveno\, albanese\, giapponese e cinese.
URL:https://www.cci.tn.it/event/i-buchi-neri-di-sarajevo/
LOCATION:Libreria Minerva\, via San Nicolò 20 – Trieste
CATEGORIES:Eventi
ATTACH;FMTTYPE=image/jpeg:https://www.cci.tn.it/wp-content/uploads/sites/2/2026/03/Evento-17-marzo-2026.jpg
END:VEVENT
BEGIN:VEVENT
DTSTART;TZID=Europe/Rome:20260320T203000
DTEND;TZID=Europe/Rome:20260320T223000
DTSTAMP:20260424T011527
CREATED:20260310T103603Z
LAST-MODIFIED:20260407T092326Z
UID:18972-1774038600-1774045800@www.cci.tn.it
SUMMARY:Luci e ombre 2026
DESCRIPTION:I volontari del cinema dell’associazione NOI Oratorio Arco (TN) organizzano la seconda edizione del cineforum Luci e ombre incentrata sul tema della legalità. \nLa rassegna è iniziata venerdì 6 marzo con una serata pensata per ragazze e ragazzi organizzata dal Gruppo Giovani di Arco sulla base della loro esperienza con Libera e proseguirà per i tre venerdì successivi con la visione di tre film introdotti da realtà che lavorano nell’ambito specifico del tema della pellicola: la tutela dei minori\, la libertà di stampa e le pene alternative alla detenzione. \nVenerdì 20 marzo alle ore 20:30 verrà proiettato il film “Fortapàsc” (Italia\, 2009) sulla vicenda di Giancarlo Siani\, giornalista italiano assassinato dalla camorra. Seguirà un intervento sulla libertà dei media di Serena Epis\, ricercatrice e redattrice per la testata e centro studi Osservatorio Balcani Caucaso Transeuropa. \nIl programma dell’intera rassegna è disponibile alla pagina Luci e ombre 2026 \nBIGLIETTI E INFORMAZIONI \nBiglietto unico: 5\,00€ \nAbbonamento: 15\,00€ (con posto prenotato nelle serate gratuite)
URL:https://www.cci.tn.it/event/luci-e-ombre-2026/
LOCATION:Arco\, Via Pomerio 15
CATEGORIES:Appuntamenti
ATTACH;FMTTYPE=image/png:https://www.cci.tn.it/wp-content/uploads/sites/2/2026/03/Cineforum-2.png
END:VEVENT
BEGIN:VEVENT
DTSTART;TZID=Europe/Rome:20260418T140000
DTEND;TZID=Europe/Rome:20260418T144000
DTSTAMP:20260424T011527
CREATED:20260317T113340Z
LAST-MODIFIED:20260324T085212Z
UID:19010-1776520800-1776523200@www.cci.tn.it
SUMMARY:Fronte Europeo: da Tirana a Kyiv\, il nuovo impulso all'integrazione EU
DESCRIPTION:Cosa sta succedendo alla politica europea dell’allargamento\, spesso definita il più grande successo internazionale dell’Unione europea? Nell’ambito del Festival Internazionale del giornalismo di Perugia intervengono i giornalisti Andrea Braschayko e Francesco Brusa\, e Luisa Chiodi di OBC Transeuropa \nLa Commissione guidata da Ursula von der Leyen punta ad accelerare l’integrazione di nuovi Paesi\, mentre l’UE è sottoposta a pressioni geopolitiche crescenti\, dalla competizione tra grandi potenze al ritorno dei nazionalismi. L’obiettivo dichiarato è ottenere risultati concreti sull’allargamento a Est entro la fine del mandato della Commissione nel 2029. \nRestano però forti interrogativi sulla fattibilità politica e istituzionale di questo processo. Pesano questioni aperte come il controllo territoriale della Moldavia con la regione separatista della Transnistria\, l’ingresso dell’Ucraina ancora in guerra e le resistenze interne all’UE\, dall’Ungheria alla Slovacchia. Nei Balcani\, da anni in attesa\, uno spiraglio sembra aprirsi per il Montenegro e forse per l’Albania. Sullo sfondo resta il nodo decisivo: l’Unione riuscirà a riformarsi e rafforzarsi internamente per affrontare un nuovo ciclo di allargamento? \nAd analizzare scenari e contraddizioni della nuova stagione dell’allargamento europeo saranno: \n– Andrea Braschayko\, giornalista freelance che collabora con Il Foglio\, Valigia Blu ed East Journal e studioso di politica dell’Europa orientale \n– Francesco Brusa\, giornalista e corrispondente specializzato sull’Europa centro-orientale e sulla Turchia\, collaboratore di MicroMega\, il Manifesto e OBC Transeuropa \n– Luisa Chiodi\, politologa e direttrice scientifica di OBC Transeuropa\, esperta di società civile e trasformazioni politiche nello spazio post-comunista. \nINFO: \nFestival Internazionale del giornalismo di Perugia
URL:https://www.cci.tn.it/event/fronte-europeo-da-tirana-a-kyiv-il-nuovo-impulso-allintegrazione-eu/
LOCATION:Teatro della Sapienza – Perugia
CATEGORIES:Eventi
ATTACH;FMTTYPE=image/jpeg:https://www.cci.tn.it/wp-content/uploads/sites/2/2026/03/Evento-18-aprile-2026.jpg
END:VEVENT
BEGIN:VEVENT
DTSTART;TZID=Europe/Rome:20260505T180000
DTEND;TZID=Europe/Rome:20260630T180000
DTSTAMP:20260424T011527
CREATED:20260423T120041Z
LAST-MODIFIED:20260423T134628Z
UID:19062-1778004000-1782842400@www.cci.tn.it
SUMMARY:Mostra fotografica "Sarajevo 1992–1996 – l'assedio più lungo"
DESCRIPTION:Prosegue il viaggio della mostra “Sarajevo 1992–1996 – l’assedio più lungo” del fotografo italiano Mario Boccia\, che dopo le tappe di Rovereto e Belgrado\, sarà inaugurata a Zagabria il 5 maggio alle ore 18:00 presso l’Istituto italiano di Cultura.  \nRealizzata da Osservatorio Balcani Caucaso Transeuropa e dal Museo Storico Italiano della Guerra\, la mostra racconta attraverso scatti in bianco e nero la dura quotidianità degli abitanti di Sarajevo durante gli anni di distruzione della loro città. Queste fotografie non sono solo testimonianza di devastazione e perdita\, ma anche di speranza\, dignità e dei gesti invisibili di solidarietà che hanno tenuto unita la comunità cittadina. \nMario Boccia\, fotogiornalista freelance\, ha realizzato reportage su questioni internazionali e pubblicato articoli e fotografie su molte testate giornalistiche italiane. Ha lavorato per vent’anni in scenari di guerra e povertà in Europa\, Africa\, America Latina e Medio Oriente\, cercando di individuare segnali di speranza anche nelle situazioni più disperate. È stato corrispondente e inviato de “il Manifesto” da Sarajevo\, Belgrado\, Pristina\, Skopje\, Dyarbakir e Baghdad. \nAll’inaugurazione della mostra il 5 maggio parteciperà Mario Boccia\, assieme all’ex vicesindaco di Sarajevo Anja Margetić e la caporedattrice della radio zagabrese yammat.fm Silvija Šeparović. L’evento sarà in italiano e in croato con traduzione simultanea. \nLa mostra sarà visitabile a maggio e giugno\, negli orari di apertura dell’Istituto italiano di Cultura e l’ingresso è gratuito. Dopo Zagabria\, la mostra viaggerà a Sarajevo. \nL’ospitalità della mostra è organizzata nell’ambito del progetto “Trancityons”\, cofinanziato dall’Unione Europea (CERV-2024-CITIZENS-REM). \nNel contesto della mostra saranno organizzati altri quattro eventi all’Istituto Italiano di Cultura di Zagabria: \n6 maggio ore 11:00\nVisita guidata della mostra con il fotografo Mario Boccia (evento in italiano e in croato con traduzione simultanea) \n20 maggio ore 18:00\nSarajevo\, trent’anni dopo: come si costruisce la fiducia? (evento in croato) \n10 giugno ore 19:00\nScena del crimine: l’etica del giornalismo di guerra (evento in croato) \n15 giugno ore 18:00\nDal trauma alla memoria collettiva. Il ruolo dello spazio pubblico (evento in italiano e in croato con traduzione simultanea). \nINFO:\nIstituto Italiano di Cultura di Zagabria\nemail: eventi.iiczagabria@esteri.it
URL:https://www.cci.tn.it/event/mostra-fotografica-sarajevo-1992-1996-lassedio-piu-lungo-a-zagabria/
LOCATION:Istituto Italiano di Cultura di Zagabria\, Ulica Sv. Preobraženja 4\, Zagreb\, 10000\, Croatia (Local Name: Hrvatska)
CATEGORIES:Eventi
ATTACH;FMTTYPE=image/png:https://www.cci.tn.it/wp-content/uploads/sites/2/2026/04/Copertina-mostra-Mario-Boccia-a-Zagabria-scaled.png
END:VEVENT
END:VCALENDAR