BEGIN:VCALENDAR
VERSION:2.0
PRODID:-//Centro per la Cooperazione Internazionale - ECPv6.15.12.2//NONSGML v1.0//EN
CALSCALE:GREGORIAN
METHOD:PUBLISH
X-ORIGINAL-URL:https://www.cci.tn.it
X-WR-CALDESC:Eventi per Centro per la Cooperazione Internazionale
REFRESH-INTERVAL;VALUE=DURATION:PT1H
X-Robots-Tag:noindex
X-PUBLISHED-TTL:PT1H
BEGIN:VTIMEZONE
TZID:Europe/Rome
BEGIN:DAYLIGHT
TZOFFSETFROM:+0100
TZOFFSETTO:+0200
TZNAME:CEST
DTSTART:20240331T010000
END:DAYLIGHT
BEGIN:STANDARD
TZOFFSETFROM:+0200
TZOFFSETTO:+0100
TZNAME:CET
DTSTART:20241027T010000
END:STANDARD
BEGIN:DAYLIGHT
TZOFFSETFROM:+0100
TZOFFSETTO:+0200
TZNAME:CEST
DTSTART:20250330T010000
END:DAYLIGHT
BEGIN:STANDARD
TZOFFSETFROM:+0200
TZOFFSETTO:+0100
TZNAME:CET
DTSTART:20251026T010000
END:STANDARD
BEGIN:DAYLIGHT
TZOFFSETFROM:+0100
TZOFFSETTO:+0200
TZNAME:CEST
DTSTART:20260329T010000
END:DAYLIGHT
BEGIN:STANDARD
TZOFFSETFROM:+0200
TZOFFSETTO:+0100
TZNAME:CET
DTSTART:20261025T010000
END:STANDARD
END:VTIMEZONE
BEGIN:VEVENT
DTSTART;TZID=Europe/Rome:20250206T210000
DTEND;TZID=Europe/Rome:20250206T230000
DTSTAMP:20260424T020009
CREATED:20250108T113837Z
LAST-MODIFIED:20250108T121239Z
UID:14814-1738875600-1738882800@www.cci.tn.it
SUMMARY:Srebrenica per non dimenticare
DESCRIPTION:Incontro dedicato alla memoria del Genocidio perpetrato l’11 luglio del 1995 a Srebrenica in Bosnia Erzegovina\, dalle truppe serbo-bosniache di Ratko Mladić. \nIntervengono: \nNadja Mujčić\, sopravvissuta e testimone \nLuka Zanoni\, direttore della testata OBC Transeuropa
URL:https://www.cci.tn.it/event/srebrenica-per-non-dimenticare/
LOCATION:Sala Granata\, Via Solferino 72\, Lodi
CATEGORIES:Eventi
ATTACH;FMTTYPE=image/jpeg:https://www.cci.tn.it/wp-content/uploads/sites/2/2025/01/Srebrenica-6-febbraio-2025.jpg
END:VEVENT
END:VCALENDAR