BEGIN:VCALENDAR
VERSION:2.0
PRODID:-//Centro per la Cooperazione Internazionale - ECPv6.15.12.2//NONSGML v1.0//EN
CALSCALE:GREGORIAN
METHOD:PUBLISH
X-ORIGINAL-URL:https://www.cci.tn.it
X-WR-CALDESC:Eventi per Centro per la Cooperazione Internazionale
REFRESH-INTERVAL;VALUE=DURATION:PT1H
X-Robots-Tag:noindex
X-PUBLISHED-TTL:PT1H
BEGIN:VTIMEZONE
TZID:Europe/Rome
BEGIN:DAYLIGHT
TZOFFSETFROM:+0100
TZOFFSETTO:+0200
TZNAME:CEST
DTSTART:20230326T010000
END:DAYLIGHT
BEGIN:STANDARD
TZOFFSETFROM:+0200
TZOFFSETTO:+0100
TZNAME:CET
DTSTART:20231029T010000
END:STANDARD
BEGIN:DAYLIGHT
TZOFFSETFROM:+0100
TZOFFSETTO:+0200
TZNAME:CEST
DTSTART:20240331T010000
END:DAYLIGHT
BEGIN:STANDARD
TZOFFSETFROM:+0200
TZOFFSETTO:+0100
TZNAME:CET
DTSTART:20241027T010000
END:STANDARD
BEGIN:DAYLIGHT
TZOFFSETFROM:+0100
TZOFFSETTO:+0200
TZNAME:CEST
DTSTART:20250330T010000
END:DAYLIGHT
BEGIN:STANDARD
TZOFFSETFROM:+0200
TZOFFSETTO:+0100
TZNAME:CET
DTSTART:20251026T010000
END:STANDARD
END:VTIMEZONE
BEGIN:VEVENT
DTSTART;TZID=Europe/Rome:20240906T193000
DTEND;TZID=Europe/Rome:20240906T210000
DTSTAMP:20260422T145848
CREATED:20241007T115811Z
LAST-MODIFIED:20241007T115811Z
UID:14393-1725651000-1725656400@www.cci.tn.it
SUMMARY:Cena di beneficenza per la Bosnia
DESCRIPTION:Cena solidale di beneficenza il cui ricavato sarà utilizzato dal “Gruppo Bosnia Mori Brentonico insieme per Stara Rijeka” per proseguire i progetti di aiuto agli amici di Stara Rijeka. Luisa Chiodi\, direttrice di OBCT\, interverrà con un aggiornamento sulla situazione in Bosnia Erzegovina \n\n\nIl Gruppo Bosnia Mori è attivo sul territorio di Prijedor\, in Bosnia Erzegovina\, da anni. Ha in essere un gemellaggio con Stara Rijeka\, dove assistono la popolazione in diversi progetti. \nCena solidale di beneficenza il cui ricavato sarà utilizzato dal “Gruppo Bosnia Mori e Brentonico insieme per Stara Rijeka” per proseguire i progetti di aiuto agli amici di Stara Rijeka: scuola bus per i bambini di Stara Rijeka e dintorni; spese convitto per tre ragazzi scuole superiori; fornitura alimenti per famiglie indigenti. \nLuisa Chiodi\, direttrice di OBCT\, interverrà con un aggiornamento sulla situazione in Bosnia Erzegovina.
URL:https://www.cci.tn.it/event/cena-di-beneficenza-per-la-bosnia/
LOCATION:Mori (TN) Oratorio di Mori\, Via Battisti Giuseppe\, 2
CATEGORIES:Eventi
ATTACH;FMTTYPE=image/jpeg:https://www.cci.tn.it/wp-content/uploads/sites/2/2024/10/Cena-di-beneficenza-per-la-Bosnia_article_photo_story.jpg
END:VEVENT
END:VCALENDAR