BEGIN:VCALENDAR
VERSION:2.0
PRODID:-//Centro per la Cooperazione Internazionale - ECPv6.15.12.2//NONSGML v1.0//EN
CALSCALE:GREGORIAN
METHOD:PUBLISH
X-ORIGINAL-URL:https://www.cci.tn.it
X-WR-CALDESC:Eventi per Centro per la Cooperazione Internazionale
REFRESH-INTERVAL;VALUE=DURATION:PT1H
X-Robots-Tag:noindex
X-PUBLISHED-TTL:PT1H
BEGIN:VTIMEZONE
TZID:Europe/Paris
BEGIN:DAYLIGHT
TZOFFSETFROM:+0100
TZOFFSETTO:+0200
TZNAME:CEST
DTSTART:20210328T010000
END:DAYLIGHT
BEGIN:STANDARD
TZOFFSETFROM:+0200
TZOFFSETTO:+0100
TZNAME:CET
DTSTART:20211031T010000
END:STANDARD
BEGIN:DAYLIGHT
TZOFFSETFROM:+0100
TZOFFSETTO:+0200
TZNAME:CEST
DTSTART:20220327T010000
END:DAYLIGHT
BEGIN:STANDARD
TZOFFSETFROM:+0200
TZOFFSETTO:+0100
TZNAME:CET
DTSTART:20221030T010000
END:STANDARD
BEGIN:DAYLIGHT
TZOFFSETFROM:+0100
TZOFFSETTO:+0200
TZNAME:CEST
DTSTART:20230326T010000
END:DAYLIGHT
BEGIN:STANDARD
TZOFFSETFROM:+0200
TZOFFSETTO:+0100
TZNAME:CET
DTSTART:20231029T010000
END:STANDARD
END:VTIMEZONE
BEGIN:VEVENT
DTSTART;TZID=Europe/Paris:20221201T123000
DTEND;TZID=Europe/Paris:20221201T170000
DTSTAMP:20260424T221840
CREATED:20221120T120231Z
LAST-MODIFIED:20240704T075012Z
UID:9740-1669897800-1669914000@www.cci.tn.it
SUMMARY:Whistleblowing in Italia: le distanze da colmare
DESCRIPTION:L’Italia è ancora in attesa di recepire la direttiva europea 2019/1937 sulla protezione delle persone che segnalano illeciti sul posto di lavoro\, i whistleblower. Si tratta di un passaggio di vitale importanza per il nostro Paese. L’attuale legge italiana\, infatti\, è insufficiente\, perché non garantisce protezione ai lavoratori del settore privato e a chi segnala ai media o alle organizzazioni non profit. Tutelare al meglio i whistleblower è fondamentale per limitare i rischi di corruzione e malagestione dei fondi europei del Piano Nazionale di Ripresa e Resilienza. \nIl whistleblowing è un fenomeno molto complesso che tocca mondi diversi: dalla psicologia ai media\, dai sindacati alla società civile\, dal ruolo del singolo individuo alle responsabilità politiche dello Stato. \nPer questa ragione durante l’eventi\, si potranno ascoltare le voci di numerosi ospiti\, provenienti da settori differenti\, che negli anni si sono occupati di whistleblowing in Italia e in Europa. Sarà inoltre possibile assistere alla proiezione de “La Bufera: Cronache di ordinaria corruzione”\, primo documentario sul whistleblowing in Italia\, diretto dal regista Marco Ferrari e realizzato con la consulenza scientifica di The Good Lobby. \n\nRegistrazione partecipanti e pranzo di benvenuto.\nSaluti iniziali di Priscilla Robledo (The Good Lobby).\nIntervento di apertura di Laura Valli (Componente del Consiglio Autorità Nazionale Anticorruzione).\nOsvaldo Danzi (Fiordirisorse) intervista Francesco Zambon (whistleblower OMS Italia).\n“Whistleblowing e direttiva europea: adesso è già tardi”\, con Nicoletta Parisi (Università Cattolica del Sacro Cuore) e Leonardo Ferrante (Libera). Modera Federico Anghelé (The Good Lobby).\n“Tra ostacoli culturali e carenza formativa: il whistleblowing nella PA”\, con Valentina Donini (Scuola Nazionale dell’Amministrazione) e Susanna Ferro (GlobaLeaks/Whistleblowing PA). Modera Priscilla Robledo (The Good Lobby).\n“Perché segnalare? I fattori psicosociali connessi al whistleblowing”\, con Sergio Arcuri (whistleblower Arval) e Giorgio Fraschini (Transparency IT). Modera Stefania Zolotti (SenzaFiltro).\n“Whistleblowing a mezzo stampa: una relazione delicata”\, con Fabrizio Gatti (Today.it) e Sacha Biazzo (Fanpage). Modera Alberto Puliafito (Slow News).\n“Querele bavaglio (SLAPP): quali rimedi?”\, con Davide del Monte (info.nodes) e Sielke Beata Kelner (Osservatorio Balcani Caucaso Transeuropa). Modera Martina Turola (The Good Lobby).\nBreve presentazione del film “La Bufera” da parte del regista Marco Ferrari. A seguire proiezione del film.\n\nLa partecipazione all’evento è gratuita e aperta a tutti\, ma trattandosi di un evento a numero chiuso\, è necessario prenotare il proprio posto. \nPer iscriversi si veda la pagina dedicata.
URL:https://www.cci.tn.it/event/whistleblowing-in-italia-le-distanze-da-colmare/
LOCATION:Milano\, CBM Italia onlus\, via Melchiorre Gioia 72\, Milano
CATEGORIES:Eventi
ATTACH;FMTTYPE=image/png:https://www.cci.tn.it/wp-content/uploads/sites/2/2022/12/Whistleblowing-in-Italia-le-distanze-da-colmare.png
END:VEVENT
END:VCALENDAR