BEGIN:VCALENDAR
VERSION:2.0
PRODID:-//Centro per la Cooperazione Internazionale - ECPv6.15.12.2//NONSGML v1.0//EN
CALSCALE:GREGORIAN
METHOD:PUBLISH
X-ORIGINAL-URL:https://www.cci.tn.it
X-WR-CALDESC:Eventi per Centro per la Cooperazione Internazionale
REFRESH-INTERVAL;VALUE=DURATION:PT1H
X-Robots-Tag:noindex
X-PUBLISHED-TTL:PT1H
BEGIN:VTIMEZONE
TZID:Europe/Paris
BEGIN:DAYLIGHT
TZOFFSETFROM:+0100
TZOFFSETTO:+0200
TZNAME:CEST
DTSTART:20220327T010000
END:DAYLIGHT
BEGIN:STANDARD
TZOFFSETFROM:+0200
TZOFFSETTO:+0100
TZNAME:CET
DTSTART:20221030T010000
END:STANDARD
BEGIN:DAYLIGHT
TZOFFSETFROM:+0100
TZOFFSETTO:+0200
TZNAME:CEST
DTSTART:20230326T010000
END:DAYLIGHT
BEGIN:STANDARD
TZOFFSETFROM:+0200
TZOFFSETTO:+0100
TZNAME:CET
DTSTART:20231029T010000
END:STANDARD
BEGIN:DAYLIGHT
TZOFFSETFROM:+0100
TZOFFSETTO:+0200
TZNAME:CEST
DTSTART:20240331T010000
END:DAYLIGHT
BEGIN:STANDARD
TZOFFSETFROM:+0200
TZOFFSETTO:+0100
TZNAME:CET
DTSTART:20241027T010000
END:STANDARD
END:VTIMEZONE
BEGIN:VEVENT
DTSTART;TZID=Europe/Paris:20230422T140000
DTEND;TZID=Europe/Paris:20230422T150000
DTSTAMP:20260420T121320
CREATED:20230417T084546Z
LAST-MODIFIED:20240704T080329Z
UID:10458-1682172000-1682175600@www.cci.tn.it
SUMMARY:Libertà dei media sotto attacco in Europa: cosa sta facendo l’Unione europea contro le azioni legali vessatorie?
DESCRIPTION:L’evento sarà anche in live streaming e on demand sui canali del Festival \nIn 2017\, the dramatic killing of Maltese investigative journalist Daphne Caruana Galizia\, who at the time of her assassination had 47 vexatious lawsuits pending against her\, drew the attention of public opinion\, civil society and policymakers to the magnitude of the SLAPP phenomenon in Europe. The anti-SLAPP movement which arose following her death engaged civil society organisations across Europe and has led to the issue of anti-SLAPP solutions being prioritised on the agenda of the EU and the Council of Europe. In April 2022\, the EU Commission presented its anti-SLAPP Directive proposal while the Council of Europe is in the process of finalising a Recommendation addressing the same theme. \nThe objective of the panel co-organized by ARTICLE 19 Europe and OBCT\, as part of the Media Freedom Rapid Response Mechanism\, is to highlight the phenomenon of SLAPPs at the national level and unpack the anti-SLAPP developments at the European level. By bringing together advocacy experts\, along with SLAPP survivors from Serbia and Italy\, the panel will offer an overview of the progress and the state of play both at domestic and European level\, while addressing the remaining challenges that media professionals and advocates still face in Europe. \nOrganised in association with ARTICLE 19 Europe and OBCT.
URL:https://www.cci.tn.it/event/liberta-dei-media-sotto-attacco-in-europa-cosa-sta-facendo-lunione-europea-contro-le-azioni-legali-vessatorie/
LOCATION:Festival del Giornalismo\, Sala dei Notari\, Perugia
CATEGORIES:Eventi
ATTACH;FMTTYPE=image/jpeg:https://www.cci.tn.it/wp-content/uploads/sites/2/2023/04/SLAPPs-against-the-media-in-Europe-is-the-EU-response-sufficient-and-what-remains-to-be-done_article_photo_story.jpg
END:VEVENT
END:VCALENDAR