BEGIN:VCALENDAR
VERSION:2.0
PRODID:-//Centro per la Cooperazione Internazionale - ECPv6.15.12.2//NONSGML v1.0//EN
CALSCALE:GREGORIAN
METHOD:PUBLISH
X-WR-CALNAME:Centro per la Cooperazione Internazionale
X-ORIGINAL-URL:https://www.cci.tn.it
X-WR-CALDESC:Eventi per Centro per la Cooperazione Internazionale
REFRESH-INTERVAL;VALUE=DURATION:PT1H
X-Robots-Tag:noindex
X-PUBLISHED-TTL:PT1H
BEGIN:VTIMEZONE
TZID:Europe/Rome
BEGIN:DAYLIGHT
TZOFFSETFROM:+0100
TZOFFSETTO:+0200
TZNAME:CEST
DTSTART:20230326T010000
END:DAYLIGHT
BEGIN:STANDARD
TZOFFSETFROM:+0200
TZOFFSETTO:+0100
TZNAME:CET
DTSTART:20231029T010000
END:STANDARD
BEGIN:DAYLIGHT
TZOFFSETFROM:+0100
TZOFFSETTO:+0200
TZNAME:CEST
DTSTART:20240331T010000
END:DAYLIGHT
BEGIN:STANDARD
TZOFFSETFROM:+0200
TZOFFSETTO:+0100
TZNAME:CET
DTSTART:20241027T010000
END:STANDARD
BEGIN:DAYLIGHT
TZOFFSETFROM:+0100
TZOFFSETTO:+0200
TZNAME:CEST
DTSTART:20250330T010000
END:DAYLIGHT
BEGIN:STANDARD
TZOFFSETFROM:+0200
TZOFFSETTO:+0100
TZNAME:CET
DTSTART:20251026T010000
END:STANDARD
END:VTIMEZONE
BEGIN:VEVENT
DTSTART;TZID=Europe/Rome:20240615T180000
DTEND;TZID=Europe/Rome:20240615T200000
DTSTAMP:20260421T073502
CREATED:20240611T074331Z
LAST-MODIFIED:20240611T074331Z
UID:13304-1718474400-1718481600@www.cci.tn.it
SUMMARY:Voices of Truth - 30 Years of NUNS – II part
DESCRIPTION:The event\, which celebrates the 30th anniversary of the Independent Journalists’ Association of Serbia (NUNS)\, will be the occasion to present the latest Shadow report along with a set of recommendations on media freedom in Serbia \n\n\nWhile celebrating the 30th anniversary of NUNS\, the event is also an opportunity to present the latest Shadow report along with a set of recommendations prepared by NUNS and OBCT aimed at contributing to the chapter dedicated to media freedom of the Rule of Law Report which the European Commission will publish for the first time this year for candidate countries including Serbia. \nAfter the report presentation\, the President of NUNS will award honorary membership cards to individuals who have made an immeasurable contribution to the rule of law and media freedom in Serbia\, followed by a reception\, networking\, and a concert of the journalists’ band ‘Radna grupa/Working group’. \nSimultaneous translation from Serbian to English and from English to Serbian will be provided. \nAGENDA \n18:00 – 18:45\, Presentation of the “Shadow report contribution to EC Rule of law report”  \nSpeakers:  \nSerena Epis\, Editor and Researcher at OBC Transeuropa \nThomas Law\, Intern and Researcher at NUNS \nModerator: Tamara Filipovic Stevanovic\, NUNS Secretary General \n18.45 – 19.00\, Award of NUNS honorary membership cards \n19.00\, Reception\, networking and concert of the journalists’ band ‘Radna grupa/Working group’ \n\nThe shadow report and its recommendations are produced as part of the Media Freedom Rapid Response\, a Europe-wide mechanism that tracks\, monitors\, and responds to violations of press and media freedom in EU Member States and candidate countries\, with co-funding of the Italian Ministry for Foreign Affairs and International Cooperation within the “Transnational Advocacy for Freedom of Information in the Western Balkans – ATLIB”.
URL:https://www.cci.tn.it/event/voices-of-truth-30-years-of-nuns-ii-part/
LOCATION:Belgrade\, Serbia\, New Tekstil\, Dunavska 86
CATEGORIES:Eventi
ATTACH;FMTTYPE=image/png:https://www.cci.tn.it/wp-content/uploads/sites/2/2024/06/Voices-of-Truth-30-Years-of-NUNS-II-part_article_photo_story-1.png
END:VEVENT
END:VCALENDAR