BEGIN:VCALENDAR
VERSION:2.0
PRODID:-//Centro per la Cooperazione Internazionale - ECPv6.15.12.2//NONSGML v1.0//EN
CALSCALE:GREGORIAN
METHOD:PUBLISH
X-ORIGINAL-URL:https://www.cci.tn.it
X-WR-CALDESC:Eventi per Centro per la Cooperazione Internazionale
REFRESH-INTERVAL;VALUE=DURATION:PT1H
X-Robots-Tag:noindex
X-PUBLISHED-TTL:PT1H
BEGIN:VTIMEZONE
TZID:Europe/Rome
BEGIN:DAYLIGHT
TZOFFSETFROM:+0100
TZOFFSETTO:+0200
TZNAME:CEST
DTSTART:20240331T010000
END:DAYLIGHT
BEGIN:STANDARD
TZOFFSETFROM:+0200
TZOFFSETTO:+0100
TZNAME:CET
DTSTART:20241027T010000
END:STANDARD
BEGIN:DAYLIGHT
TZOFFSETFROM:+0100
TZOFFSETTO:+0200
TZNAME:CEST
DTSTART:20250330T010000
END:DAYLIGHT
BEGIN:STANDARD
TZOFFSETFROM:+0200
TZOFFSETTO:+0100
TZNAME:CET
DTSTART:20251026T010000
END:STANDARD
BEGIN:DAYLIGHT
TZOFFSETFROM:+0100
TZOFFSETTO:+0200
TZNAME:CEST
DTSTART:20260329T010000
END:DAYLIGHT
BEGIN:STANDARD
TZOFFSETFROM:+0200
TZOFFSETTO:+0100
TZNAME:CET
DTSTART:20261025T010000
END:STANDARD
END:VTIMEZONE
BEGIN:VEVENT
DTSTART;TZID=Europe/Rome:20250611T080000
DTEND;TZID=Europe/Rome:20250628T170000
DTSTAMP:20260423T051846
CREATED:20250610T093427Z
LAST-MODIFIED:20250915T092231Z
UID:18010-1749628800-1751130000@www.cci.tn.it
SUMMARY:Bielorussia: 30 anni di regime in 30 manifesti
DESCRIPTION:Mostra di Arthur Vakarov \nIl 20 luglio 2024 il potere autoritario di Lukašenka in Belarus ha compiuto 30 anni. Riflettendo su questo triste anniversario\, Arthur Vakarov\, noto grafico e designer bielorusso Arthur Vakarov\, costretto all’esilio\, ha ideato il progetto “Bielorussia: 30 anni di regime in 30 manifesti”: un potente viaggio visivo che racconta tre decenni di regime in Bielorussia attraverso la grafica\, mettendo in luce le implicazioni politiche\, sociali e culturali di un governo autoritario. \nVisitabile dalle 9.00 alle 13.00  \nROVERETO\, Palazzo Todeschi\, via Tartarotti  \npresso la sede roveretana del Centro per la Cooperazione Internazionale \npiano terra (ex uffici INPS)  \nEntrata libera  \nPer programmare una visita al di fuori dell’orario di apertura scrivere a: info@cci.tn.it  \nPromossa da CCI  \nCon il supporto di Comune di Rovereto Città della pace \nPresentazione della mostra da parte di Arthur Vakarov \n«Il 2024 è stato un anno di importanti appuntamenti elettorali in tutto il mondo e di drammatici conflitti. Con così tante elezioni e la guerra in Ucraina\, questo è un tempo di grandi prove per il movimento democratico e progressista globale. In questo contesto una data tragica per la Belarus potrebbe passare inosservata: il 20 luglio 2024 il potere autoritario di Lukašenka in Belarus ha compiuto 30 anni\, un “anniversario buio” per il nostro Paese. Siamo testimoni ormai in tutto il mondo del risveglio di idee populiste e autoritarie. In questo contesto la situazione bielorussa non fa che confermare questa tendenza allarmante. L’indifferenza e l’affidamento alla propaganda conducono a conseguenze catastrofiche. Cari Europei! Guardate a noi bielorussi: siamo la testimonianza vivente di quanto sia facile eleggere un dittatore come pure di quanto sia difficile e di quali sacrifici costi sbarazzarsene. Sono un designer. Il mio mestiere consiste nell’evidenziare i processi sociali e pubblici\, sfidandoli in modo creativo. Sei mesi fa quando stavo riflettendo su questo triste anniversario e le sue conseguenze mi venne l’idea di un progetto. Per sei mesi la mia mente era dominata da pensieri su come rendere visualmente questo numero 30. Così ho deciso di creare 30 manifesti\, ognuno di loro rappresenta gli esiti terribili del governo di Lukašenka per su società\, politica\, economia e cultura. Ho concettualizzato tali conseguenze in due ambiti: generale\, statisticamente rilevante per tutti\, e personale. L’aspetto generale riguarda cioè l’intero Paese e ciascuno dei suoi abitanti\, senza distinzione per fede politica e stato sociale. Tutti sentono il peso della dittatura: sono impauriti\, impoveriti\, sono in lutto e soffrono. L’ambito personale si sviluppa intorno a sentimenti e pensieri\, i miei e quelli dei miei amici che per tutta la loro vita hanno combattuto contro la tendenza ad adattarsi al ruolo di “tranquilli” prigionieri rinchiusi in una sorta di campo di concentramento chiamato “Belarus”. Molti bielorussi eccezionali hanno pagato con la libertà la difesa della propria dignità. Alcuni sono stati uccisi dal regime. Molte altre persone sono dovute fuggire dal Paese per evitare il carcere e per un lungo tempo (o per sempre?!) hanno perso familiari\, amici\, lavoro e casa. Ma nonostante le prove che l’esilio comporta non dobbiamo rinunciare ai tentativi di liberare la Belarus dalle grinfie della dittatura e dell’impero. Non dobbiamo abbandonare la cultura bielorussa\, ma anzi diffonderla\, perché è la cultura che in futuro renderà la Belarus un Paese europeo\, in cui le persone saranno felici di vivere.» \nProfilo biografico di Arthur Vakarov \nNato a Minsk\, capitale della Belarus\, dove ha vissuto per 47 anni\, finché fu costretto a fuggire per evitare la repressione politica. Ha trascorso tutta la vita come grafico ed è stato riconosciuto come uno dei designer più influenti della Belarus. Negli ultimi vent’anni ha principalmente sviluppato progetti in ambito nazionale e culturale\, ha lavorato anche per media indipendenti\, per gruppi musicali\, per scrittori e per organizzazioni pubbliche. Per la Belarus ha conquistato diversi premi internazionali nel campo del design\, tra cui il Gran Premio alla Biennale del Design di Kiev nel 2001 e il primo posto al festival “Red Apple” di Mosca nel 2001\, poi al festival del design di Tbilisi nel 2001 e il premio al festival del design “Adnak” di Minsk. Nonostante questi riconoscimenti il regime di Lukashenko\, per il suo lavoro di grafico\, lo ha ritenuto un estremista e lo ha condannato a sette anni di prigione. Ha così dovuto ricominciare da zero in Polonia. Il progetto “30 anni di dittatura in 30 manifesti” è stato esposto a Vilnius\, Varsavia\, Danzica\, Stoccolma e Tallinn. \nPer approfondire \nVideo: Giulia Florio e Marco Puleri presentano la mostra durante Estival 2025 \nVideo: Belarus: il coraggio della libertà \nLibro: Il volume Bielorussia viva tra dittatura e resistenza (1994-2024)\, edito da Morcelliana Scholé\, contiene i trenta manifesti di Arthur Vakarov per la prima volta pubblicati in Italia e scritti dei nostri Giulia De Florio e Marcello Flores e di Francesco Brusa e Filippo Perrini.
URL:https://www.cci.tn.it/event/bielorussia-30-anni-di-regime-in-30-manifesti/
LOCATION:Centro per la Cooperazione Internazionale\, sede di Rovereto\, Via Tartarotti 7\, Rovereto (TN)
CATEGORIES:Appuntamenti,Eventi,Sguardi sul mondo
ATTACH;FMTTYPE=image/png:https://www.cci.tn.it/wp-content/uploads/sites/2/2025/06/immagini-per-sito-11.png
END:VEVENT
BEGIN:VEVENT
DTSTART;TZID=Europe/Rome:20250624T150000
DTEND;TZID=Europe/Rome:20250624T163000
DTSTAMP:20260423T051846
CREATED:20250530T135029Z
LAST-MODIFIED:20250605T085454Z
UID:17961-1750777200-1750782600@www.cci.tn.it
SUMMARY:Under pressure: protecting media freedom in the EU and beyond
DESCRIPTION:As part of the World Justice Forum\, taking place from 23 to 27 June 2025 in Warsaw\, OBCT organises a panel to discuss the state of media freedom in Europe and how the decline of the rule of law is affecting the media’s ability to serve as public watchdogs in defense of the public interest \n\n\nIn recent years\, even countries traditionally regarded as stable democracies have faced growing threats to the rule of law. Within the European Union\, some member states are witnessing a rapid and troubling decline in democratic standards\, raising serious concerns about the EU’s capacity to uphold its fundamental values. \nThis panel will focus on media freedom\, often one of the first pillars to come under attack in times of democratic decline. We will examine how the weakening or collapse of the rule of law negatively affects journalists’ rights and the media’s ability to operate independently and safely. Topics will include the growing use of vexatious lawsuits (SLAPPs)\, the failure of justice systems to properly respond to violence against journalists\, the abuse of state power to impose financial or regulatory pressure on critical media outlets\, and the growing use of restrictive regulations to obstruct civic watchdogs. \nThe panel will also highlight the work of civil society organizations actively defending media freedom on the ground. We will discuss both their successes and the obstacles they face\, with particular attention to their engagement with EU instruments such as the Rule of Law Mechanism\, and its potential to foster transnational support and accountability. \nThe discussion will bring together perspectives from both EU member states and candidate countries\, where the decline of media freedom is a particularly urgent concern. \nSpeakers: \nJonathan Day\, LIBERTIES \nOliver Money-Kyrle\, IPI \nIngrida Milkaite\, ECPMF \nJoanna Szymanska\, Article 19 \nSerena Epis\, OBCT \nModerator: Luisa Chiodi\, OBCT \n\nThis panel is organised as part of the Media Freedom Rapid Response (MFRR)\, a Europe-wide mechanism which tracks\, monitors\, and responds to violations of press and media freedom in EU Member States and candidate countries.
URL:https://www.cci.tn.it/event/under-pressure-protecting-media-freedom-in-the-eu-and-beyond/
LOCATION:Hilton Warsaw City\, Warsaw\, Poland
CATEGORIES:Eventi
ATTACH;FMTTYPE=image/png:https://www.cci.tn.it/wp-content/uploads/sites/2/2025/05/WJF.png
END:VEVENT
END:VCALENDAR