BEGIN:VCALENDAR
VERSION:2.0
PRODID:-//Centro per la Cooperazione Internazionale - ECPv6.15.12.2//NONSGML v1.0//EN
CALSCALE:GREGORIAN
METHOD:PUBLISH
X-WR-CALNAME:Centro per la Cooperazione Internazionale
X-ORIGINAL-URL:https://www.cci.tn.it
X-WR-CALDESC:Eventi per Centro per la Cooperazione Internazionale
REFRESH-INTERVAL;VALUE=DURATION:PT1H
X-Robots-Tag:noindex
X-PUBLISHED-TTL:PT1H
BEGIN:VTIMEZONE
TZID:Europe/Paris
BEGIN:DAYLIGHT
TZOFFSETFROM:+0100
TZOFFSETTO:+0200
TZNAME:CEST
DTSTART:20220327T010000
END:DAYLIGHT
BEGIN:STANDARD
TZOFFSETFROM:+0200
TZOFFSETTO:+0100
TZNAME:CET
DTSTART:20221030T010000
END:STANDARD
BEGIN:DAYLIGHT
TZOFFSETFROM:+0100
TZOFFSETTO:+0200
TZNAME:CEST
DTSTART:20230326T010000
END:DAYLIGHT
BEGIN:STANDARD
TZOFFSETFROM:+0200
TZOFFSETTO:+0100
TZNAME:CET
DTSTART:20231029T010000
END:STANDARD
BEGIN:DAYLIGHT
TZOFFSETFROM:+0100
TZOFFSETTO:+0200
TZNAME:CEST
DTSTART:20240331T010000
END:DAYLIGHT
BEGIN:STANDARD
TZOFFSETFROM:+0200
TZOFFSETTO:+0100
TZNAME:CET
DTSTART:20241027T010000
END:STANDARD
END:VTIMEZONE
BEGIN:VEVENT
DTSTART;TZID=Europe/Paris:20230224T110000
DTEND;TZID=Europe/Paris:20230224T123000
DTSTAMP:20260422T013401
CREATED:20230217T110431Z
LAST-MODIFIED:20240704T080106Z
UID:10215-1677236400-1677241800@www.cci.tn.it
SUMMARY:24 febbraio 2022 - 24 febbraio 2023: Un anno di guerra in Europa
DESCRIPTION:Saluti istituzionali \nMarco Marsilli – Reggente della Fondazione Campana dei Caduti \nFrancesco Valduga – Sindaco del Comune di Rovereto \nStefania Shmits – Presidente dell’Associazione Rasom \nInterviene: \nGiorgio Comai – Ricercatore senior – Osservatorio Balcani e Caucaso Transeuropa \nA seguire omaggio a Maria Dolens
URL:https://www.cci.tn.it/event/24-febbraio-2022-24-febbraio-2023-un-anno-di-guerra-in-europa/
LOCATION:Fondazione Opera Campana dei Caduti\, Colle di Miravalle\, Rovereto\, TN\, 38068
CATEGORIES:Eventi
ATTACH;FMTTYPE=image/png:https://www.cci.tn.it/wp-content/uploads/sites/2/2023/02/guerra-eu.png
END:VEVENT
END:VCALENDAR